BEGIN:VCALENDAR
VERSION:2.0
PRODID:-//ChamberMaster//Event Calendar 2.0//EN
METHOD:PUBLISH
X-PUBLISHED-TTL:P3D
REFRESH-INTERVAL:P3D
CALSCALE:GREGORIAN
BEGIN:VEVENT
DTSTART:20200922T190000Z
DTEND:20200922T200000Z
X-MICROSOFT-CDO-ALLDAYEVENT:FALSE
SUMMARY:Zoom Meeting with Joan Churchill\, CEO Alliance Medical
DESCRIPTION:Zoom Meeting with Joan Churchill\, CEO Alliance Medical Center\n\nThursday\, September 22\, 2020\, at noon\n\nAdvance questions to: Lorene@windsorchamber.com\n\nPlease register in advance for this meeting: https://us02web.zoom.us/.../tZUtcuGtrDMuE9H53prM0jIJNdU6C...\n\nAfter registering\, you will receive a confirmation email containing information about joining the meeting.\n\nSpeakers: Joan Churchill\, CEO Alliance Medical Center with Sue Labbe\, Medical Director\n\nAlliance Medical Center is Windsor's federally qualified health center operating 2 clinics on Old Redwood Highway\, along with two in Healdsburg. Joan Churchill is Alliance's new CEO\, starting her tenure in the midst of the Covid-19 pandemic\, of which Joan says Alliance's grit and determination from 2 fires and a flood allowed them to turn to telehealth and other innovative solutions to seeing patients in the pandemic.\n\nSue Labbe is Alliance's medical director and a Windsor resident\, and a pediatric nurse practitioner. Sue led Alliance's transformation into the Covid world and also started its Covid-testing program. Hear about how Alliance can provide high quality primary care\, specialty care\, including pediatrics\, OB/gyn\, cardiology\, acupuncture\, chiropractor\, dental\, behavioral health and Covid testing and support to Windsor and other residents\, regardless of ability to pay.
X-ALT-DESC;FMTTYPE=text/html:<div class="kvgmc6g5 cxmmr5t8 oygrvhab hcukyx3x c1et5uql" style="overflow-wrap: break-word\; margin: 0px\; font-family: &quot\;Segoe UI Historic&quot\;\, &quot\;Segoe UI&quot\;\, Helvetica\, Arial\, sans-serif\; color: rgb(5\, 5\, 5)\; font-size: 15px\; background-color: rgb(255\, 255\, 255)\;">Zoom Meeting with Joan Churchill\, CEO Alliance Medical Center<br />\nThursday\, September 22\, 2020\, at noon<br />\nAdvance questions to: Lorene@windsorchamber.com<br />\nPlease register in advance for this meeting:&nbsp\;<a class="oajrlxb2 g5ia77u1 qu0x051f esr5mh6w e9989ue4 r7d6kgcz rq0escxv nhd2j8a9 nc684nl6 p7hjln8o kvgmc6g5 cxmmr5t8 oygrvhab hcukyx3x jb3vyjys rz4wbd8a qt6c0cv9 a8nywdso i1ao9s8h esuyzwwr f1sip0of lzcic4wl py34i1dx gpro0wi8" fg_scanned="1" href="https://us02web.zoom.us/meeting/register/tZUtcuGtrDMuE9H53prM0jIJNdU6C5SOLaa6?fbclid=IwAR36tKZq_b1Dp2USZFqDltImFUvMHNSJAAxNhJNfDnXPjAHj7uT0S0EuK2c" rel="nofollow noopener" role="link" style="cursor: pointer\; text-decoration-line: none\; outline: none\; list-style: none\; border-width: 0px\; border-style: initial\; border-color: initial\; padding: 0px\; margin: 0px\; touch-action: manipulation\; background-color: transparent\; text-align: inherit\; display: inline\; -webkit-tap-highlight-color: transparent\; box-sizing: border-box\; font-family: inherit\;" tabindex="0" target="_blank">https://us02web.zoom.us/.../tZUtcuGtrDMuE9H53prM0jIJNdU6C...</a></div>\n\n<div class="o9v6fnle cxmmr5t8 oygrvhab hcukyx3x c1et5uql" style="overflow-wrap: break-word\; margin: 0.5em 0px 0px\; font-family: &quot\;Segoe UI Historic&quot\;\, &quot\;Segoe UI&quot\;\, Helvetica\, Arial\, sans-serif\; color: rgb(5\, 5\, 5)\; font-size: 15px\; background-color: rgb(255\, 255\, 255)\;">After registering\, you will receive a confirmation email containing information about joining the meeting.</div>\n\n<div class="o9v6fnle cxmmr5t8 oygrvhab hcukyx3x c1et5uql" style="overflow-wrap: break-word\; margin: 0.5em 0px 0px\; font-family: &quot\;Segoe UI Historic&quot\;\, &quot\;Segoe UI&quot\;\, Helvetica\, Arial\, sans-serif\; color: rgb(5\, 5\, 5)\; font-size: 15px\; background-color: rgb(255\, 255\, 255)\;">Speakers: Joan Churchill\, CEO Alliance Medical Center with Sue Labbe\, Medical Director</div>\n\n<div class="o9v6fnle cxmmr5t8 oygrvhab hcukyx3x c1et5uql" style="overflow-wrap: break-word\; margin: 0.5em 0px 0px\; font-family: &quot\;Segoe UI Historic&quot\;\, &quot\;Segoe UI&quot\;\, Helvetica\, Arial\, sans-serif\; color: rgb(5\, 5\, 5)\; font-size: 15px\; background-color: rgb(255\, 255\, 255)\;">Alliance Medical Center is Windsor&#39\;s federally qualified health center operating 2 clinics on Old Redwood Highway\, along with two in Healdsburg. Joan Churchill is Alliance&#39\;s new CEO\, starting her tenure in the midst of the Covid-19 pandemic\, of which Joan says Alliance&#39\;s grit and determination from 2 fires and a flood allowed them to turn to telehealth and other innovative solutions to seeing patients in the pandemic.</div>\n\n<div class="o9v6fnle cxmmr5t8 oygrvhab hcukyx3x c1et5uql" style="overflow-wrap: break-word\; margin: 0.5em 0px 0px\; font-family: &quot\;Segoe UI Historic&quot\;\, &quot\;Segoe UI&quot\;\, Helvetica\, Arial\, sans-serif\; color: rgb(5\, 5\, 5)\; font-size: 15px\; background-color: rgb(255\, 255\, 255)\;">Sue Labbe is Alliance&#39\;s medical director and a Windsor resident\, and a pediatric nurse practitioner. Sue led Alliance&#39\;s transformation into the Covid world and also started its Covid-testing program. Hear about how Alliance can provide high quality primary care\, specialty care\, including pediatrics\, OB/gyn\, cardiology\, acupuncture\, chiropractor\, dental\, behavioral health and Covid testing and support to Windsor and other residents\, regardless of ability to pay.</div>\n
LOCATION:Via Zoom
UID:e.3588.46
SEQUENCE:3
DTSTAMP:20260420T035949Z
URL:https://business.windsorchamber.com/events/details/zoom-meeting-with-joan-churchill-ceo-alliance-medical-46
END:VEVENT

END:VCALENDAR
