BEGIN:VCALENDAR
VERSION:2.0
PRODID:-//ChamberMaster//Event Calendar 2.0//EN
METHOD:PUBLISH
X-PUBLISHED-TTL:P3D
REFRESH-INTERVAL:P3D
CALSCALE:GREGORIAN
BEGIN:VEVENT
DTSTART:20211106T233000Z
DTEND:20211107T033000Z
X-MICROSOFT-CDO-ALLDAYEVENT:FALSE
SUMMARY:Women in Conversation with Laura Dern
DESCRIPTION:Join us for an unforgettable and inspiring evening at our next Women in Conversation event featuring Laura Dern\, Academy Award-Winner\, Producer and Activist. 4:30 PM   6:30 PM Mix\, Mingle and Nosh 6:30 PM   8:30 PM Conversation with Laura Dern
X-ALT-DESC;FMTTYPE=text/html:Join us for an unforgettable and inspiring evening at our next Women in Conversation event featuring Laura Dern\, Academy Award-Winner\, Producer and Activist. 4:30 PM &ndash\; 6:30 PM Mix\, Mingle and Nosh 6:30 PM &ndash\; 8:30 PM Conversation with Laura Dern
LOCATION:Luther Burbank Center for the Arts 50 Mark West Springs Road Santa Rosa\, CA 95403
UID:e.3588.222
SEQUENCE:3
DTSTAMP:20260425T031516Z
URL:https://business.windsorchamber.com/events/details/women-in-conversation-with-laura-dern-222
END:VEVENT

END:VCALENDAR
