BEGIN:VCALENDAR
VERSION:2.0
PRODID:-//ChamberMaster//Event Calendar 2.0//EN
METHOD:PUBLISH
X-PUBLISHED-TTL:P3D
REFRESH-INTERVAL:P3D
CALSCALE:GREGORIAN
BEGIN:VEVENT
DTSTART:20260509T190000Z
DTEND:20260509T210000Z
X-MICROSOFT-CDO-ALLDAYEVENT:FALSE
SUMMARY:Windsor Visitors Center Open House
DESCRIPTION:Please join us for our 3rd annual Windsor Visitors Center Open House! This event is held in honor of National Travel &Tourism Week. There will be refreshments\, goodie bags and gift giveaways.
X-ALT-DESC;FMTTYPE=text/html:Please join us for our 3rd annual Windsor Visitors Center Open House! This event is held in honor of National Travel &amp\;Tourism Week. There will be refreshments\, goodie bags and gift giveaways.&nbsp\;
LOCATION:The Windsor Chamber of Commerce & Visitors Center 9001 Windsor Rd. Windsor\, CA 95492
UID:e.3588.1838
SEQUENCE:3
DTSTAMP:20260421T005311Z
URL:https://business.windsorchamber.com/events/details/windsor-visitors-center-open-house-1838
END:VEVENT

END:VCALENDAR
