BEGIN:VCALENDAR
VERSION:2.0
PRODID:-//ChamberMaster//Event Calendar 2.0//EN
METHOD:PUBLISH
X-PUBLISHED-TTL:P3D
REFRESH-INTERVAL:P3D
CALSCALE:GREGORIAN
BEGIN:VEVENT
DTSTART:20231022T020000Z
DTEND:20231022T050000Z
X-MICROSOFT-CDO-ALLDAYEVENT:FALSE
SUMMARY:Windsor Community Circle Halloween Dance & Costume Contest
DESCRIPTION:SAVE THE DATE: Windsor Community Circle is kicking off "the season of giving" by giving you a Screaming Good Time! The Windsor Community Circle (WCC) is a gathering of local service organizations and individual community members who wish to participate in bettering our Windsor Community. WCC presents The Renovators Band for a Halloween Dance and Costume Party (over 21 only) No-host Bar! Prizes for Costume Contest! Raffle! (parking for this event can be found at WOF lot next to CrossFit\, the public street and public lot at roundabout)
X-ALT-DESC;FMTTYPE=text/html:SAVE THE DATE: Windsor Community Circle is kicking off &ldquo\;the season of giving&rdquo\; by giving you a Screaming Good Time! The Windsor Community Circle (WCC) is a gathering of local service organizations and individual community members who wish to participate in bettering our Windsor Community. WCC presents The Renovators Band for a Halloween Dance and Costume Party (over 21 only) No-host Bar! Prizes for Costume Contest! Raffle! (parking for this event can be found at WOF lot next to CrossFit\, the public street and public lot at roundabout)
LOCATION:Windsor Odd Fellows Lodge 337 Windsor River Rd\, Windsor\, CA 95492
UID:e.3588.628
SEQUENCE:3
DTSTAMP:20260421T050755Z
URL:https://business.windsorchamber.com/events/details/windsor-community-circle-halloween-dance-costume-contest-628
END:VEVENT

END:VCALENDAR
