BEGIN:VCALENDAR
VERSION:2.0
PRODID:-//ChamberMaster//Event Calendar 2.0//EN
METHOD:PUBLISH
X-PUBLISHED-TTL:P3D
REFRESH-INTERVAL:P3D
CALSCALE:GREGORIAN
BEGIN:VEVENT
DTSTART:20220908T193000Z
DTEND:20220908T230000Z
X-MICROSOFT-CDO-ALLDAYEVENT:FALSE
SUMMARY:Windsor Community Blood Drive
DESCRIPTION:It's serious. Vitalant is currently facing a blood emergency as the blood supply has dropped by nearly 50% since the start of the summer. Patients need help to ensure blood is available at their time of need. An emergency blood shortage can be overcome when more people step up to give the gift of life. Every two seconds someone in the U.S. receives a blood transfusion. You can make an impact by making and keeping an appointment to give blood at an upcoming community blood drive: Windsor Community Blood Drive   Drive Date: Thursday\, September 8   Location: Bloodmobile at Exchange Bank - 8700 Lakewood Dr WINDSOR\, CA\, 95492   Hours: 12:30 pm to 4:00 pm Giving blood is safe and easy\, and only takes about an hour to help save more than one life. Other added benefits of donating blood are a mini-physical and full panel of tests each donor receives. The mini-physical check of pulse\, blood pressure\, hemoglobin and cholesterol can be tracked with each visit in the donor's secure and confidential online account. We hope you'll join us this Thursday to give blood and help end this blood emergency!
X-ALT-DESC;FMTTYPE=text/html:It&rsquo\;s serious. Vitalant is currently facing a blood emergency as the blood supply has dropped by nearly 50% since the start of the summer. Patients need help to ensure blood is available at their time of need. An emergency blood shortage can be overcome when more people step up to give the gift of life. Every two seconds someone in the U.S. receives a blood transfusion. You can make an impact by making and keeping an appointment to give blood at an upcoming community blood drive: Windsor Community Blood Drive &bull\; Drive Date: Thursday\, September 8 &bull\; Location: Bloodmobile at Exchange Bank - 8700 Lakewood Dr WINDSOR\, CA\, 95492 &bull\; Hours: 12:30 pm to 4:00 pm Giving blood is safe and easy\, and only takes about an hour to help save more than one life. Other added benefits of donating blood are a mini-physical and full panel of tests each donor receives. The mini-physical check of pulse\, blood pressure\, hemoglobin and cholesterol can be tracked with each visit in the donor&rsquo\;s secure and confidential online account. We hope you&rsquo\;ll join us this Thursday to give blood and help end this blood emergency!
LOCATION:Bloodmobile at Exchange Bank - 8700 Lakewood Dr WINDSOR\, CA\, 95492
UID:e.3588.466
SEQUENCE:3
DTSTAMP:20260423T204426Z
URL:https://business.windsorchamber.com/events/details/windsor-community-blood-drive-466
END:VEVENT

END:VCALENDAR
