BEGIN:VCALENDAR
VERSION:2.0
PRODID:-//ChamberMaster//Event Calendar 2.0//EN
METHOD:PUBLISH
X-PUBLISHED-TTL:P3D
REFRESH-INTERVAL:P3D
CALSCALE:GREGORIAN
BEGIN:VEVENT
DTSTART:20230711T193000Z
DTEND:20230711T233000Z
X-MICROSOFT-CDO-ALLDAYEVENT:FALSE
SUMMARY:Windsor Community Blood Drive
DESCRIPTION:TUESDAY\, July 11\, 12:30pm   4:30pm Please join us for a Blood Drive at Charlie's Grill- Banquet Room\, 1320 19th Hole Drive Windsor\, CA 95492. To make an appointment\, visit donors.vitalant.org. Enter blood drive code: Charlies or call 877.258.4825. Appointments are strongly encouraged. Help end the critical blood shortage by making your blood donation July 11\, or at another mobile blood drive or center near you!
X-ALT-DESC;FMTTYPE=text/html:TUESDAY\, July 11\, 12:30pm &ndash\; 4:30pm Please join us for a Blood Drive at Charlie&#39\;s Grill- Banquet Room\, 1320 19th Hole Drive Windsor\, CA 95492. To make an appointment\, visit donors.vitalant.org. Enter blood drive code: Charlies or call 877.258.4825. Appointments are strongly encouraged. Help end the critical blood shortage by making your blood donation July 11\, or at another mobile blood drive or center near you!
LOCATION:Charlie's Grill - Banquet Room 1320 19th Hole Drive Windsor\, CA 95492
UID:e.3588.612
SEQUENCE:3
DTSTAMP:20260421T170129Z
URL:https://business.windsorchamber.com/events/details/windsor-community-blood-drive-07-11-2023-612
END:VEVENT

END:VCALENDAR
