BEGIN:VCALENDAR
VERSION:2.0
PRODID:-//ChamberMaster//Event Calendar 2.0//EN
METHOD:PUBLISH
X-PUBLISHED-TTL:P3D
REFRESH-INTERVAL:P3D
CALSCALE:GREGORIAN
BEGIN:VEVENT
DTSTART:20220806T003000Z
DTEND:20220806T043000Z
X-MICROSOFT-CDO-ALLDAYEVENT:FALSE
SUMMARY:Wags Whiskers & Wine
DESCRIPTION:The Humane Society of Sonoma County's Annual Gala - Wags Whiskers & Wine - is back\, live and in purrrson! Please join us for an evening of fine dining and furry friends at Kendall-Jackson Wine Estate and Gardens\, Friday\, August 5th\, 2022 at 5:30 pm All your favorite Gala traditions will be back: ??World Famous Cake Frenzy! ??Save a Life Paddle Raise hosted by California State Senate Majority Leader\, Mike McGuire! ??HSSC's Tail Waggin' Full of Kittens! ??Kendall-Jackson Wines & Local Brews ??Extraordinary Raffles-- An Exquisite Diamond Necklace from E.R. Sawyer Jewelers & An Incredible Instant Wine Cellar! ??Fabulous Online & In-Person Auctions! ...and so much MORE! Proceeds from the gala fund and sustain critical medical care\, compassionate behavior support\, insightful adoption services and abundant unconditional love for every rescued animal we bring into our Santa Rosa and Healdsburg Shelters. Please join us for a night to remember   Purchase your tickets today: HUMANESOCIETYSOCO.ORG/WAGS22
X-ALT-DESC;FMTTYPE=text/html:The Humane Society of Sonoma County&rsquo\;s Annual Gala - Wags Whiskers &amp\; Wine - is back\, live and in purrrson! Please join us for an evening of fine dining and furry friends at Kendall-Jackson Wine Estate and Gardens\, Friday\, August 5th\, 2022 at 5:30 pm All your favorite Gala traditions will be back: ??World Famous Cake Frenzy! ??Save a Life Paddle Raise hosted by California State Senate Majority Leader\, Mike McGuire! ??HSSC&#39\;s Tail Waggin&#39\; Full of Kittens! ??Kendall-Jackson Wines &amp\; Local Brews ??Extraordinary Raffles-- An Exquisite Diamond Necklace from E.R. Sawyer Jewelers &amp\; An Incredible Instant Wine Cellar! ??Fabulous Online &amp\; In-Person Auctions! ...and so much MORE! Proceeds from the gala fund and sustain critical medical care\, compassionate behavior support\, insightful adoption services and abundant unconditional love for every rescued animal we bring into our Santa Rosa and Healdsburg Shelters. Please join us for a night to remember &ndash\; Purchase your tickets today: HUMANESOCIETYSOCO.ORG/WAGS22
LOCATION:Kendall-Jackson Wine Estate and Gardens
UID:e.3588.430
SEQUENCE:3
DTSTAMP:20260423T204457Z
URL:https://business.windsorchamber.com/events/details/wags-whiskers-wine-430
END:VEVENT

END:VCALENDAR
