BEGIN:VCALENDAR
VERSION:2.0
PRODID:-//ChamberMaster//Event Calendar 2.0//EN
METHOD:PUBLISH
X-PUBLISHED-TTL:P3D
REFRESH-INTERVAL:P3D
CALSCALE:GREGORIAN
BEGIN:VEVENT
DTSTART:20200915T190000Z
DTEND:20200915T200000Z
X-MICROSOFT-CDO-ALLDAYEVENT:FALSE
SUMMARY:Virtual Luncheon with Cynthia Murray\, North Bay Leadership Council
DESCRIPTION:Virtual Chamber membership luncheon with Cynthia Murray of the North Bay Leadership Council. Windsor Dia De Los Muertos is our Member of the Month (Chair: Angelica Nunez)\n\nMs. Murray will present two topics of interest to Chamber business members: Economic Recovery Strategies and Climate Change/Resilience\n\nAbout NBLC: Principles of the North Bay Leadership Council: Economic Vitality and Quality of Life are driven by Healthy and Sustainable Communities which include:\n\nA growing and competitive economy that provides jobs for North Bay residents with wage levels that support families and economic self sufficiency\n\nAn education system that prepares students for jobs in the 21st Century and provides lifelong learning opportunities for all residents\n\nA transportation system that enhances mobility and goods movement into and out of the North Bay\, and promotes regional connectivity as well as efficient commuter options\n\nSufficient\, quality housing to meet demand at all income levels\n\nHealthy communities with safe neighborhoods\, open space\, recreational and cultural amenities\, and access to healthy food choices\n\nOpportunities for all residents to achieve and maintain optimal physical and mental health\, including access to quality\, affordable health care\n\nA reliable supply of high quality water and efficient wastewater system that recycles and reuses water to enhance the water supply\n\nStrong partnerships between the profit and not-for-profit sectors to enhance quality of life\n\nPolicies that recognize the value and contribution of a vital manufacturing community in the North Bay\n\nPolicies that recognize the value and contribution of small businesses in the North Bay\n\nAn adequate infrastructure system including communications\, transportation\, water and other utilities\, and local alternative energy resources\n\nA regulatory system that protects the environment\, is transparent\, consistent\, predictable\, cost-effective\, and based on reputable science that supports clean air and water\, and water and energy conservation\n\nCivically engaged residents who are connected to their community.\n\nMs Murray's Bio:\n\nCynthia Murray is President/CEO of North Bay Leadership Council (NBLC). She serves on the boards of many organizations including the Bay Area Council Economic Institute\, First 5 Sonoma County Commission\, Sonoma County Health Action Council\, Marin School to Careers Partnership and the Metropolitan Transportation Commission's Policy Advisory Council. Murray chairs the Marin County Housing Crisis Action Group and is a strong advocate for new housing. She received the 2010 Women in Business award from the North Bay Business Journal for her achievements in economic development. North Bay Children's Center made her their Champion for Children in 2017. And in 2019\, she was the San Rafael Chamber of Commerce's Woman of Industry.\n\nPrior to becoming CEO at NBLC\, she served eight years on the Marin County Board of Supervisors and seven years on the Novato City Council\, including one term as Mayor.\n\nMs. Murray is a graduate of Rutgers University\, spent 20 years in sales and marketing\, and is an adjunct professor at Sonoma State University.
X-ALT-DESC;FMTTYPE=text/html:<div class="kvgmc6g5 cxmmr5t8 oygrvhab hcukyx3x c1et5uql" style="overflow-wrap: break-word\; margin: 0px\; font-family: &quot\;Segoe UI Historic&quot\;\, &quot\;Segoe UI&quot\;\, Helvetica\, Arial\, sans-serif\; color: rgb(5\, 5\, 5)\; font-size: 15px\; background-color: rgb(255\, 255\, 255)\;">Virtual Chamber membership luncheon with Cynthia Murray of the North Bay Leadership Council. Windsor Dia De Los Muertos is our Member of the Month (Chair: Angelica Nunez)</div>\n\n<div class="o9v6fnle cxmmr5t8 oygrvhab hcukyx3x c1et5uql" style="overflow-wrap: break-word\; margin: 0.5em 0px 0px\; font-family: &quot\;Segoe UI Historic&quot\;\, &quot\;Segoe UI&quot\;\, Helvetica\, Arial\, sans-serif\; color: rgb(5\, 5\, 5)\; font-size: 15px\; background-color: rgb(255\, 255\, 255)\;">Ms. Murray will present two topics of interest to Chamber business members: Economic Recovery Strategies and Climate Change/Resilience</div>\n\n<div class="o9v6fnle cxmmr5t8 oygrvhab hcukyx3x c1et5uql" style="overflow-wrap: break-word\; margin: 0.5em 0px 0px\; font-family: &quot\;Segoe UI Historic&quot\;\, &quot\;Segoe UI&quot\;\, Helvetica\, Arial\, sans-serif\; color: rgb(5\, 5\, 5)\; font-size: 15px\; background-color: rgb(255\, 255\, 255)\;">About NBLC: Principles of the North Bay Leadership Council: Economic Vitality and Quality of Life are driven by Healthy and Sustainable Communities which include:</div>\n\n<div class="o9v6fnle cxmmr5t8 oygrvhab hcukyx3x c1et5uql" style="overflow-wrap: break-word\; margin: 0.5em 0px 0px\; font-family: &quot\;Segoe UI Historic&quot\;\, &quot\;Segoe UI&quot\;\, Helvetica\, Arial\, sans-serif\; color: rgb(5\, 5\, 5)\; font-size: 15px\; background-color: rgb(255\, 255\, 255)\;">A growing and competitive economy that provides jobs for North Bay residents with wage levels that support families and economic self sufficiency</div>\n\n<div class="o9v6fnle cxmmr5t8 oygrvhab hcukyx3x c1et5uql" style="overflow-wrap: break-word\; margin: 0.5em 0px 0px\; font-family: &quot\;Segoe UI Historic&quot\;\, &quot\;Segoe UI&quot\;\, Helvetica\, Arial\, sans-serif\; color: rgb(5\, 5\, 5)\; font-size: 15px\; background-color: rgb(255\, 255\, 255)\;">An education system that prepares students for jobs in the 21st Century and provides lifelong learning opportunities for all residents</div>\n\n<div class="o9v6fnle cxmmr5t8 oygrvhab hcukyx3x c1et5uql" style="overflow-wrap: break-word\; margin: 0.5em 0px 0px\; font-family: &quot\;Segoe UI Historic&quot\;\, &quot\;Segoe UI&quot\;\, Helvetica\, Arial\, sans-serif\; color: rgb(5\, 5\, 5)\; font-size: 15px\; background-color: rgb(255\, 255\, 255)\;">A transportation system that enhances mobility and goods movement into and out of the North Bay\, and promotes regional connectivity as well as efficient commuter options</div>\n\n<div class="o9v6fnle cxmmr5t8 oygrvhab hcukyx3x c1et5uql" style="overflow-wrap: break-word\; margin: 0.5em 0px 0px\; font-family: &quot\;Segoe UI Historic&quot\;\, &quot\;Segoe UI&quot\;\, Helvetica\, Arial\, sans-serif\; color: rgb(5\, 5\, 5)\; font-size: 15px\; background-color: rgb(255\, 255\, 255)\;">Sufficient\, quality housing to meet demand at all income levels</div>\n\n<div class="o9v6fnle cxmmr5t8 oygrvhab hcukyx3x c1et5uql" style="overflow-wrap: break-word\; margin: 0.5em 0px 0px\; font-family: &quot\;Segoe UI Historic&quot\;\, &quot\;Segoe UI&quot\;\, Helvetica\, Arial\, sans-serif\; color: rgb(5\, 5\, 5)\; font-size: 15px\; background-color: rgb(255\, 255\, 255)\;">Healthy communities with safe neighborhoods\, open space\, recreational and cultural amenities\, and access to healthy food choices</div>\n\n<div class="o9v6fnle cxmmr5t8 oygrvhab hcukyx3x c1et5uql" style="overflow-wrap: break-word\; margin: 0.5em 0px 0px\; font-family: &quot\;Segoe UI Historic&quot\;\, &quot\;Segoe UI&quot\;\, Helvetica\, Arial\, sans-serif\; color: rgb(5\, 5\, 5)\; font-size: 15px\; background-color: rgb(255\, 255\, 255)\;">Opportunities for all residents to achieve and maintain optimal physical and mental health\, including access to quality\, affordable health care</div>\n\n<div class="o9v6fnle cxmmr5t8 oygrvhab hcukyx3x c1et5uql" style="overflow-wrap: break-word\; margin: 0.5em 0px 0px\; font-family: &quot\;Segoe UI Historic&quot\;\, &quot\;Segoe UI&quot\;\, Helvetica\, Arial\, sans-serif\; color: rgb(5\, 5\, 5)\; font-size: 15px\; background-color: rgb(255\, 255\, 255)\;">A reliable supply of high quality water and efficient wastewater system that recycles and reuses water to enhance the water supply</div>\n\n<div class="o9v6fnle cxmmr5t8 oygrvhab hcukyx3x c1et5uql" style="overflow-wrap: break-word\; margin: 0.5em 0px 0px\; font-family: &quot\;Segoe UI Historic&quot\;\, &quot\;Segoe UI&quot\;\, Helvetica\, Arial\, sans-serif\; color: rgb(5\, 5\, 5)\; font-size: 15px\; background-color: rgb(255\, 255\, 255)\;">Strong partnerships between the profit and not-for-profit sectors to enhance quality of life</div>\n\n<div class="o9v6fnle cxmmr5t8 oygrvhab hcukyx3x c1et5uql" style="overflow-wrap: break-word\; margin: 0.5em 0px 0px\; font-family: &quot\;Segoe UI Historic&quot\;\, &quot\;Segoe UI&quot\;\, Helvetica\, Arial\, sans-serif\; color: rgb(5\, 5\, 5)\; font-size: 15px\; background-color: rgb(255\, 255\, 255)\;">Policies that recognize the value and contribution of a vital manufacturing community in the North Bay</div>\n\n<div class="o9v6fnle cxmmr5t8 oygrvhab hcukyx3x c1et5uql" style="overflow-wrap: break-word\; margin: 0.5em 0px 0px\; font-family: &quot\;Segoe UI Historic&quot\;\, &quot\;Segoe UI&quot\;\, Helvetica\, Arial\, sans-serif\; color: rgb(5\, 5\, 5)\; font-size: 15px\; background-color: rgb(255\, 255\, 255)\;">Policies that recognize the value and contribution of small businesses in the North Bay</div>\n\n<div class="o9v6fnle cxmmr5t8 oygrvhab hcukyx3x c1et5uql" style="overflow-wrap: break-word\; margin: 0.5em 0px 0px\; font-family: &quot\;Segoe UI Historic&quot\;\, &quot\;Segoe UI&quot\;\, Helvetica\, Arial\, sans-serif\; color: rgb(5\, 5\, 5)\; font-size: 15px\; background-color: rgb(255\, 255\, 255)\;">An adequate infrastructure system including communications\, transportation\, water and other utilities\, and local alternative energy resources</div>\n\n<div class="o9v6fnle cxmmr5t8 oygrvhab hcukyx3x c1et5uql" style="overflow-wrap: break-word\; margin: 0.5em 0px 0px\; font-family: &quot\;Segoe UI Historic&quot\;\, &quot\;Segoe UI&quot\;\, Helvetica\, Arial\, sans-serif\; color: rgb(5\, 5\, 5)\; font-size: 15px\; background-color: rgb(255\, 255\, 255)\;">A regulatory system that protects the environment\, is transparent\, consistent\, predictable\, cost-effective\, and based on reputable science that supports clean air and water\, and water and energy conservation</div>\n\n<div class="o9v6fnle cxmmr5t8 oygrvhab hcukyx3x c1et5uql" style="overflow-wrap: break-word\; margin: 0.5em 0px 0px\; font-family: &quot\;Segoe UI Historic&quot\;\, &quot\;Segoe UI&quot\;\, Helvetica\, Arial\, sans-serif\; color: rgb(5\, 5\, 5)\; font-size: 15px\; background-color: rgb(255\, 255\, 255)\;">Civically engaged residents who are connected to their community.</div>\n\n<div class="o9v6fnle cxmmr5t8 oygrvhab hcukyx3x c1et5uql" style="overflow-wrap: break-word\; margin: 0.5em 0px 0px\; font-family: &quot\;Segoe UI Historic&quot\;\, &quot\;Segoe UI&quot\;\, Helvetica\, Arial\, sans-serif\; color: rgb(5\, 5\, 5)\; font-size: 15px\; background-color: rgb(255\, 255\, 255)\;">Ms Murray&#39\;s Bio:<br />\nCynthia Murray is President/CEO of North Bay Leadership Council (NBLC). She serves on the boards of many organizations including the Bay Area Council Economic Institute\, First 5 Sonoma County Commission\, Sonoma County Health Action Council\, Marin School to Careers Partnership and the Metropolitan Transportation Commission&rsquo\;s Policy Advisory Council. Murray chairs the Marin County Housing Crisis Action Group and is a strong advocate for new housing. She received the 2010 Women in Business award from the North Bay Business Journal for her achievements in economic development. North Bay Children&rsquo\;s Center made her their Champion for Children in 2017. And in 2019\, she was the San Rafael Chamber of Commerce&rsquo\;s Woman of Industry.</div>\n\n<div class="o9v6fnle cxmmr5t8 oygrvhab hcukyx3x c1et5uql" style="overflow-wrap: break-word\; margin: 0.5em 0px 0px\; font-family: &quot\;Segoe UI Historic&quot\;\, &quot\;Segoe UI&quot\;\, Helvetica\, Arial\, sans-serif\; color: rgb(5\, 5\, 5)\; font-size: 15px\; background-color: rgb(255\, 255\, 255)\;">Prior to becoming CEO at NBLC\, she served eight years on the Marin County Board of Supervisors and seven years on the Novato City Council\, including one term as Mayor.</div>\n\n<div class="o9v6fnle cxmmr5t8 oygrvhab hcukyx3x c1et5uql" style="overflow-wrap: break-word\; margin: 0.5em 0px 0px\; font-family: &quot\;Segoe UI Historic&quot\;\, &quot\;Segoe UI&quot\;\, Helvetica\, Arial\, sans-serif\; color: rgb(5\, 5\, 5)\; font-size: 15px\; background-color: rgb(255\, 255\, 255)\;">Ms. Murray is a graduate of Rutgers University\, spent 20 years in sales and marketing\, and is an adjunct professor at Sonoma State University.</div>\n
LOCATION:Virtual Meeting
UID:e.3588.45
SEQUENCE:3
DTSTAMP:20260420T035949Z
URL:https://business.windsorchamber.com/events/details/virtual-luncheon-with-cynthia-murray-north-bay-leadership-council-45
END:VEVENT

END:VCALENDAR
