BEGIN:VCALENDAR
VERSION:2.0
PRODID:-//ChamberMaster//Event Calendar 2.0//EN
METHOD:PUBLISH
X-PUBLISHED-TTL:P3D
REFRESH-INTERVAL:P3D
CALSCALE:GREGORIAN
BEGIN:VEVENT
DTSTART:20210119T200000Z
DTEND:20210119T210000Z
X-MICROSOFT-CDO-ALLDAYEVENT:FALSE
SUMMARY:Virtual Chamber Luncheon with Cynthia Riggs\, the Biz Diva
DESCRIPTION:January Virtual Chamber Luncheon with Cynthia Riggs\, The Biz Diva\n\nSupport Your Business Success with an Actionable Plan!\n\nWhen: Jan 19\, 2021 12:00 PM Pacific Time (US and Canada)\n\nRegister in advance for this meeting:\n\nhttps://us02web.zoom.us/meeting/register/tZMrdOmvrDwiEtV7Ug0uk5TejSzKo44FGkJ3\n\nAfter registering\, you will receive a confirmation email containing information about joining the meeting.\n\nMember of the Month: Banner Bank\n\nBanner Bank has recently received an award from the Mortgage Bankers Association:\n\nCreating affordable loan programs and helping people get smart about home buying are two reasons that Mortgager Bankers Association presented us the 2020 Market Outreach Strategies Award. Banner Bank loves helping homebuyers. Visit www.bannerbank.com/about-us/news to learn more.\n\nCreating a business plan has never been easier! Learning the One Page Business Plan  protocol offers a succinct process that brings new energy into your business. You'll find value in creating your plan that includes much more than the final document. The learning process is equally important.\n\n  The One Page Business Plan  is a tool for building your business with care and intention.\n\n  Your one-page plan is a living\, breathing document that will partner with you through the ebbs and flows of business growth.\n\n  Hold yourself accountable while allowing shift and change to guide your path.\n\n  Increase your commitment and track your progress.\n\n"The single most important element that determines the success or failure of a small business is not developing a long-range business plan." --Improving the Health of Your Business\, Nolo Press.\n\n \n\nAbout Cynthia Riggs\, MBA\n\nCynthia Riggs is the Biz Diva! A successful entrepreneur since the age of 23\, Cynthia built several businesses from the ground up\, including a multimillion-dollar company she sold in 2004. She became a One Page Business Plan consultant in 2006 and has continuously used the protocol to support emerging and established businesses step into their next level of success and profitability.\n\nOn a personal note\, she believes her good fortune in life has been the ability to connect her passion to a profitable revenue stream\, time and time again. Her greatest joy is bringing entrepreneurs into the seven-figure business club.\n\nCynthia Riggs\, Biz Diva *cynthia@bizdiva.biz * 707-665-5410 * www.bizdiva.biz *\n\nOn LinkedIn: https://www.linkedin.com/in/bizdiva/
X-ALT-DESC;FMTTYPE=text/html:<div class="kvgmc6g5 cxmmr5t8 oygrvhab hcukyx3x c1et5uql" style="overflow-wrap: break-word\; margin: 0px\; font-family: &quot\;Segoe UI Historic&quot\;\, &quot\;Segoe UI&quot\;\, Helvetica\, Arial\, sans-serif\; color: rgb(5\, 5\, 5)\; font-size: 15px\;"><strong>January Virtual Chamber Luncheon with Cynthia Riggs\, The Biz Diva<br />\nSupport Your Business Success with an Actionable Plan!</strong></div>\n\n<div class="o9v6fnle cxmmr5t8 oygrvhab hcukyx3x c1et5uql" style="overflow-wrap: break-word\; margin: 0.5em 0px 0px\; font-family: &quot\;Segoe UI Historic&quot\;\, &quot\;Segoe UI&quot\;\, Helvetica\, Arial\, sans-serif\; color: rgb(5\, 5\, 5)\; font-size: 15px\;">When: Jan 19\, 2021 12:00 PM Pacific Time (US and Canada)<br />\nRegister in advance for this meeting:<br />\n<a href="https://us02web.zoom.us/meeting/register/tZMrdOmvrDwiEtV7Ug0uk5TejSzKo44FGkJ3">https://us02web.zoom.us/meeting/register/tZMrdOmvrDwiEtV7Ug0uk5TejSzKo44FGkJ3</a><br />\nAfter registering\, you will receive a confirmation email containing information about joining the meeting.</div>\n\n<div class="o9v6fnle cxmmr5t8 oygrvhab hcukyx3x c1et5uql" style="overflow-wrap: break-word\; margin: 0.5em 0px 0px\; font-family: &quot\;Segoe UI Historic&quot\;\, &quot\;Segoe UI&quot\;\, Helvetica\, Arial\, sans-serif\; color: rgb(5\, 5\, 5)\; font-size: 15px\;">Member of the Month: Banner Bank<br />\nBanner Bank has recently received an award from the Mortgage Bankers Association:<br />\nCreating affordable loan programs and helping people get smart about home buying are two reasons that Mortgager Bankers Association presented us the 2020 Market Outreach Strategies Award. Banner Bank loves helping homebuyers. Visit&nbsp\;<a class="oajrlxb2 g5ia77u1 qu0x051f esr5mh6w e9989ue4 r7d6kgcz rq0escxv nhd2j8a9 nc684nl6 p7hjln8o kvgmc6g5 cxmmr5t8 oygrvhab hcukyx3x jb3vyjys rz4wbd8a qt6c0cv9 a8nywdso i1ao9s8h esuyzwwr f1sip0of lzcic4wl py34i1dx gpro0wi8" fg_scanned="1" href="https://www.bannerbank.com/about-us/news?fbclid=IwAR0TReAHBa268JIMPwTls1DZ_85TgvQGqTH1QlHvY-A7p0n-U6YZv_GATSo" rel="nofollow noopener" role="link" style="color: var(--blue-link)\; cursor: pointer\; text-decoration-line: none\; outline: none\; list-style: none\; border-width: 0px\; border-style: initial\; border-color: initial\; padding: 0px\; margin: 0px\; touch-action: manipulation\; background-color: transparent\; text-align: inherit\; display: inline\; -webkit-tap-highlight-color: transparent\; box-sizing: border-box\; font-family: inherit\;" tabindex="0" target="_blank">www.bannerbank.com/about-us/news</a>&nbsp\;to learn more.</div>\n\n<div class="o9v6fnle cxmmr5t8 oygrvhab hcukyx3x c1et5uql" style="overflow-wrap: break-word\; margin: 0.5em 0px 0px\; font-family: &quot\;Segoe UI Historic&quot\;\, &quot\;Segoe UI&quot\;\, Helvetica\, Arial\, sans-serif\; color: rgb(5\, 5\, 5)\; font-size: 15px\;">Creating a business plan has never been easier! Learning the One Page Business Plan&reg\; protocol offers a succinct process that brings new energy into your business. You&#39\;ll find value in creating your plan that includes much more than the final document. The learning process is equally important.</div>\n\n<div class="o9v6fnle cxmmr5t8 oygrvhab hcukyx3x c1et5uql" style="overflow-wrap: break-word\; margin: 0.5em 0px 0px\; font-family: &quot\;Segoe UI Historic&quot\;\, &quot\;Segoe UI&quot\;\, Helvetica\, Arial\, sans-serif\; color: rgb(5\, 5\, 5)\; font-size: 15px\;">&middot\; The One Page Business Plan&reg\; is a tool for building your business with care and intention.<br />\n&middot\; Your one-page plan is a living\, breathing document that will partner with you through the ebbs and flows of business growth.<br />\n&middot\; Hold yourself accountable while allowing shift and change to guide your path.<br />\n&middot\; Increase your commitment and track your progress.</div>\n\n<div class="o9v6fnle cxmmr5t8 oygrvhab hcukyx3x c1et5uql" style="overflow-wrap: break-word\; margin: 0.5em 0px 0px\; font-family: &quot\;Segoe UI Historic&quot\;\, &quot\;Segoe UI&quot\;\, Helvetica\, Arial\, sans-serif\; color: rgb(5\, 5\, 5)\; font-size: 15px\;">&quot\;The single most important element that determines the success or failure of a small business is not developing a long-range business plan.&quot\; --Improving the Health of Your Business\, Nolo Press.</div>\n\n<div class="o9v6fnle cxmmr5t8 oygrvhab hcukyx3x c1et5uql" style="overflow-wrap: break-word\; margin: 0.5em 0px 0px\; font-family: &quot\;Segoe UI Historic&quot\;\, &quot\;Segoe UI&quot\;\, Helvetica\, Arial\, sans-serif\; color: rgb(5\, 5\, 5)\; font-size: 15px\;">&nbsp\;</div>\n\n<div class="o9v6fnle cxmmr5t8 oygrvhab hcukyx3x c1et5uql" style="overflow-wrap: break-word\; margin: 0.5em 0px 0px\; font-family: &quot\;Segoe UI Historic&quot\;\, &quot\;Segoe UI&quot\;\, Helvetica\, Arial\, sans-serif\; color: rgb(5\, 5\, 5)\; font-size: 15px\;">About Cynthia Riggs\, MBA</div>\n\n<div class="o9v6fnle cxmmr5t8 oygrvhab hcukyx3x c1et5uql" style="overflow-wrap: break-word\; margin: 0.5em 0px 0px\; font-family: &quot\;Segoe UI Historic&quot\;\, &quot\;Segoe UI&quot\;\, Helvetica\, Arial\, sans-serif\; color: rgb(5\, 5\, 5)\; font-size: 15px\;">Cynthia Riggs is the Biz Diva! A successful entrepreneur since the age of 23\, Cynthia built several businesses from the ground up\, including a multimillion-dollar company she sold in 2004. She became a One Page Business Plan consultant in 2006 and has continuously used the protocol to support emerging and established businesses step into their next level of success and profitability.</div>\n\n<div class="o9v6fnle cxmmr5t8 oygrvhab hcukyx3x c1et5uql" style="overflow-wrap: break-word\; margin: 0.5em 0px 0px\; font-family: &quot\;Segoe UI Historic&quot\;\, &quot\;Segoe UI&quot\;\, Helvetica\, Arial\, sans-serif\; color: rgb(5\, 5\, 5)\; font-size: 15px\;">On a personal note\, she believes her good fortune in life has been the ability to connect her passion to a profitable revenue stream\, time and time again. Her greatest joy is bringing entrepreneurs into the seven-figure business club.</div>\n\n<div class="o9v6fnle cxmmr5t8 oygrvhab hcukyx3x c1et5uql" style="overflow-wrap: break-word\; margin: 0.5em 0px 0px\; font-family: &quot\;Segoe UI Historic&quot\;\, &quot\;Segoe UI&quot\;\, Helvetica\, Arial\, sans-serif\; color: rgb(5\, 5\, 5)\; font-size: 15px\;">Cynthia Riggs\, Biz Diva *cynthia@bizdiva.biz * 707-665-5410 *&nbsp\;<a class="oajrlxb2 g5ia77u1 qu0x051f esr5mh6w e9989ue4 r7d6kgcz rq0escxv nhd2j8a9 nc684nl6 p7hjln8o kvgmc6g5 cxmmr5t8 oygrvhab hcukyx3x jb3vyjys rz4wbd8a qt6c0cv9 a8nywdso i1ao9s8h esuyzwwr f1sip0of lzcic4wl py34i1dx gpro0wi8" href="https://l.facebook.com/l.php?u=http%3A%2F%2Fwww.bizdiva.biz%2F%3Ffbclid%3DIwAR1bO9_zxxXENW7KEOcCMJ6Npn4m93NYw7-PQPZdg78iv5KelJgBMMOG4ho&amp\;h=AT0H1NCBEY-TvMV2sCycJcBxDstayaVEd1x0pbu3zLsO5eJI9QrrQXaQKmL5pzJkYbFcxRizG9pVhDdrx2CXrM_ZFGP7Htj-CVfo6yfnhtuc4QKoLqzzJ7FNjyfAy5UJEw&amp\;__tn__=q&amp\;c[0]=AT1dpFFSRdtGSOWgPaZP-o7pg74jFiJiOl_uHfSv8_6AegU_FNPt_di4YIcnni8SNOE8xxZCoJ43D5u0ld-RBugna9qPyg2g2iKo3MFYfLFcUgxLeAxY3FOpqnzVq2OCBffLPMX_p2t2R-wxw3-azNSh" rel="nofollow noopener" role="link" style="color: var(--blue-link)\; cursor: pointer\; text-decoration-line: none\; outline: none\; list-style: none\; border-width: 0px\; border-style: initial\; border-color: initial\; padding: 0px\; margin: 0px\; touch-action: manipulation\; background-color: transparent\; text-align: inherit\; display: inline\; -webkit-tap-highlight-color: transparent\; box-sizing: border-box\; font-family: inherit\;" tabindex="0" target="_blank">www.bizdiva.biz</a>&nbsp\;*<br />\nOn LinkedIn:&nbsp\;<a class="oajrlxb2 g5ia77u1 qu0x051f esr5mh6w e9989ue4 r7d6kgcz rq0escxv nhd2j8a9 nc684nl6 p7hjln8o kvgmc6g5 cxmmr5t8 oygrvhab hcukyx3x jb3vyjys rz4wbd8a qt6c0cv9 a8nywdso i1ao9s8h esuyzwwr f1sip0of lzcic4wl py34i1dx gpro0wi8" fg_scanned="1" href="https://www.linkedin.com/in/bizdiva/?fbclid=IwAR05-aLrEIUpk9GLFJwlFgUysWYsF5lzlXPCrzYYDZ_B3S9NTL8oZZfVtjc" rel="nofollow noopener" role="link" style="color: var(--blue-link)\; cursor: pointer\; text-decoration-line: none\; outline: none\; list-style: none\; border-width: 0px\; border-style: initial\; border-color: initial\; padding: 0px\; margin: 0px\; touch-action: manipulation\; background-color: transparent\; text-align: inherit\; display: inline\; -webkit-tap-highlight-color: transparent\; box-sizing: border-box\; font-family: inherit\;" tabindex="0" target="_blank">https://www.linkedin.com/in/bizdiva/</a></div>\n
LOCATION:Virtual Luncheon via Zoom
UID:e.3588.33
SEQUENCE:3
DTSTAMP:20260419T221822Z
URL:https://business.windsorchamber.com/events/details/virtual-chamber-luncheon-with-cynthia-riggs-the-biz-diva-33
END:VEVENT

END:VCALENDAR
