BEGIN:VCALENDAR
VERSION:2.0
PRODID:-//ChamberMaster//Event Calendar 2.0//EN
METHOD:PUBLISH
X-PUBLISHED-TTL:P3D
REFRESH-INTERVAL:P3D
CALSCALE:GREGORIAN
BEGIN:VEVENT
DTSTART:20231029T220000Z
DTEND:20231030T000000Z
X-MICROSOFT-CDO-ALLDAYEVENT:FALSE
SUMMARY:Town Green Candy Crawl
DESCRIPTION:Calling all children to participate in our Candy Land BINGO! Trick-Or-Treat from store to store on the Town Green. Be sure to claim your BINGO card at HUSH KIDS (Main Sponsor) at 830 McClelland Dr. Windsor. We encourage all kids to come in costume.
X-ALT-DESC;FMTTYPE=text/html:Calling all children to participate in our Candy Land BINGO! Trick-Or-Treat from store to store on the Town Green. Be sure to claim your BINGO card at HUSH KIDS (Main Sponsor) at 830 McClelland Dr. Windsor. We encourage all kids to come in costume.
LOCATION:Town Green\, Windsor\, CA 95492
UID:e.3588.654
SEQUENCE:3
DTSTAMP:20260421T080454Z
URL:https://business.windsorchamber.com/events/details/town-green-candy-crawl-654
END:VEVENT

END:VCALENDAR
