BEGIN:VCALENDAR
VERSION:2.0
PRODID:-//ChamberMaster//Event Calendar 2.0//EN
METHOD:PUBLISH
X-PUBLISHED-TTL:P3D
REFRESH-INTERVAL:P3D
CALSCALE:GREGORIAN
BEGIN:VEVENT
DTSTART:20220212T033000Z
DTEND:20220221T053000Z
X-MICROSOFT-CDO-ALLDAYEVENT:FALSE
SUMMARY:The Complete Works of Shakespeare (Abridged)
DESCRIPTION:Not many people can say they have seen the complete works of William Shakespeare\, but if you catch our production\, you'll be one of the lucky few. This irreverent romp through all Shakespeare's comedies\, histories\, and tragedies (and the sonnets!) is a hilarious summary of all Shakespeare's works\, using reenactments and audience participation\, and including the world's shortest performance of Hamlet. Fun for Shakespeare aficionados of all ages. Tickets purchased for the postponed production in January will be honored for the rescheduled dates. This presentation is underwritten by the Healdsburg Tourism Improvement District. ?Proof of vaccination is required for admittance.?We require all staff\, cast\, crew\, volunteers\, and patrons to be vaccinated\; properly-fitted masks are required for everyone in the theater\, except for the actors on stage. Go to: https://myvaccinerecord.cdph.ca.gov to get a scannable record of your vaccination status on your smartphone. Our ushers will scan it and get you into the theater quickly and easily.
X-ALT-DESC;FMTTYPE=text/html:Not many people can say they have seen the complete works of William Shakespeare\, but if you catch our production\, you&#39\;ll be one of the lucky few. This&nbsp\;irreverent romp&nbsp\;through all&nbsp\;Shakespeare&rsquo\;s comedies\, histories\, and tragedies (and the sonnets!) is a hilarious&nbsp\;summary of all Shakespeare&rsquo\;s works\, using reenactments and audience participation\, and including the world&#39\;s shortest performance of&nbsp\;Hamlet. Fun for Shakespeare aficionados of all ages. Tickets purchased for the postponed production in January will be honored for the rescheduled dates. This presentation is underwritten by the Healdsburg Tourism Improvement District. ?Proof of vaccination is required for admittance.?We require all staff\, cast\, crew\, volunteers\, and patrons to be vaccinated\; properly-fitted masks are required for everyone in the theater\, except for the actors on stage.&nbsp\;Go to:&nbsp\;https://myvaccinerecord.cdph.ca.gov&nbsp\;to get a scannable record of your vaccination status on your smartphone. Our ushers will scan it and get you into the theater quickly and easily.
LOCATION:The Raven Performing Arts Theater 115 North Street Healdsburg\, CA 95448
UID:e.3588.251
SEQUENCE:3
DTSTAMP:20260424T150205Z
URL:https://business.windsorchamber.com/events/details/the-complete-works-of-shakespeare-abridged-02-11-2022-251
END:VEVENT

END:VCALENDAR
