BEGIN:VCALENDAR
VERSION:2.0
PRODID:-//ChamberMaster//Event Calendar 2.0//EN
METHOD:PUBLISH
X-PUBLISHED-TTL:P3D
REFRESH-INTERVAL:P3D
CALSCALE:GREGORIAN
BEGIN:VEVENT
DTSTART:20230728T023000Z
DTEND:20230730T050000Z
X-MICROSOFT-CDO-ALLDAYEVENT:FALSE
SUMMARY:Shakespeare in the Park: The Comedy of Errors
DESCRIPTION:Written by William Shakespeare Directed by Steven David Martin The Raven Players are back with Summer Shakespeare in the Park! The Comedy of Errors is one of the Bard's funniest plays   a madcap romp featuring not one but two sets of twins! The escalating case of multiple mistaken identities is set in motion when Antipholus and Dromio (of Syracuse) unknowingly visit the hometown of their long-lost twins. The Raven Players' production is set in modern-day New Orleans during Mardi Gras\, taking the fun up another notch! These performances are free! Bring blankets and chairs to enjoy Shakespeare under the stars at West Plaza Park!
X-ALT-DESC;FMTTYPE=text/html:Written by William Shakespeare Directed by Steven David Martin The Raven Players are back with Summer Shakespeare in the Park! The Comedy of Errors is one of the Bard&rsquo\;s funniest plays &mdash\; a madcap romp featuring not one but two sets of twins! The escalating case of multiple mistaken identities is set in motion when Antipholus and Dromio (of Syracuse) unknowingly visit the hometown of their long-lost twins. The Raven Players&#39\; production is set in modern-day New Orleans during Mardi Gras\, taking the fun up another notch! These performances are free! Bring blankets and chairs to enjoy Shakespeare under the stars at West Plaza Park!
LOCATION:10 North Street Healdsburg\, CA 95448
UID:e.3588.608
SEQUENCE:3
DTSTAMP:20260421T121452Z
URL:https://business.windsorchamber.com/events/details/shakespeare-in-the-park-the-comedy-of-errors-07-27-2023-608
END:VEVENT

END:VCALENDAR
