BEGIN:VCALENDAR
VERSION:2.0
PRODID:-//ChamberMaster//Event Calendar 2.0//EN
METHOD:PUBLISH
X-PUBLISHED-TTL:P3D
REFRESH-INTERVAL:P3D
CALSCALE:GREGORIAN
BEGIN:VEVENT
DTSTART:20220618T230000Z
DTEND:20220619T000000Z
X-MICROSOFT-CDO-ALLDAYEVENT:FALSE
SUMMARY:Ribbon Cutting at Flagship Taproom
DESCRIPTION:Join Flagship for it's OFFICIAL GRAND OPENING CELEBRATION on Saturday June 18th! \n\n\n\nThe ribbon cutting ceremony with the Chamber to officially welcome them to the town is at 4pm.\n\n\n\nThey will have food specials starting when they open at 10am and all day long   brunch and mimosas\, grand opening party starting at noon with wings and chicken salad sandwich and a special shrimp boil and elotes stating at 4:30.\n\n\n\nEvery item purchased throughout the day will be entered into a raffle to win a prize baskets with beer\, Flagship merch\, and gift cards.\n\n\n\nCome out to celebrate!
X-ALT-DESC;FMTTYPE=text/html:<span style="color:#050505\;"><span style="font-family:arial\,sans-serif\;"><span style="font-size:11.5pt\;"><span style="font-size:20px\;">Join Flagship for it&rsquo\;s OFFICIAL GRAND OPENING CELEBRATION on Saturday June 18th!</span> </span></span></span><br />\n<br />\n<span style="color:#050505\;"><span style="font-family:arial\,sans-serif\;"><span style="font-size:11.5pt\;">The ribbon cutting ceremony with the Chamber to officially welcome them to the town is at 4pm.</span></span></span><br />\n<br />\n<span style="color:#050505\;"><span style="font-family:arial\,sans-serif\;"><span style="font-size:11.5pt\;">They will have food specials starting when they open at 10am and all day long &ndash\; brunch and mimosas\, grand opening party starting at noon with wings and chicken salad sandwich and a special shrimp boil and elotes stating at 4:30.</span></span></span><br />\n<br />\n<span style="color:#050505\;"><span style="font-family:arial\,sans-serif\;"><span style="font-size:11.5pt\;">Every item purchased throughout the day will be entered into a raffle to win a prize baskets with beer\, Flagship merch\, and gift cards.</span></span></span><br />\n<br />\n<span style="color:#050505\;"><span style="font-family:arial\,sans-serif\;"><span style="font-size:11.5pt\;">Come out to celebrate!</span></span></span>
LOCATION:1001 McClelland Dr. Windsor\, CA 95492
UID:e.3588.419
SEQUENCE:3
DTSTAMP:20260424T033911Z
URL:https://business.windsorchamber.com/events/details/ribbon-cutting-at-flagship-taproom-419
END:VEVENT

END:VCALENDAR
