BEGIN:VCALENDAR
VERSION:2.0
PRODID:-//ChamberMaster//Event Calendar 2.0//EN
METHOD:PUBLISH
X-PUBLISHED-TTL:P3D
REFRESH-INTERVAL:P3D
CALSCALE:GREGORIAN
BEGIN:VEVENT
DTSTART:20220201T180000Z
DTEND:20220201T230000Z
X-MICROSOFT-CDO-ALLDAYEVENT:FALSE
SUMMARY:Quick\, Painless\, Professional Portraits
DESCRIPTION:Is It Time You Updated Your Professional Headshot? We Hear You. And\, We've Got You! Colab Is Partnering With Dan Quinones From Pine Photo And Video To Offer Colab Members & The North Bay Community An Opportunity To Get A High Quality Headshot. Sign up for your slot using the link below. Colab Members\, $60. Non Members\, $85.
X-ALT-DESC;FMTTYPE=text/html:Is It Time You Updated Your Professional Headshot? We Hear You. And\, We&#39\;ve Got You! Colab Is Partnering With Dan Quinones From Pine Photo And Video To Offer Colab Members &amp\; The North Bay Community An Opportunity To Get A High Quality Headshot. Sign up for your slot using the link below. Colab Members\, $60. Non Members\, $85.
LOCATION:coLAB Coworking 427 Mendocino Ave. Suite 100 Santa Rosa\, CA 95401
UID:e.3588.250
SEQUENCE:3
DTSTAMP:20260424T131933Z
URL:https://business.windsorchamber.com/events/details/quick-painless-professional-portraits-250
END:VEVENT

END:VCALENDAR
