BEGIN:VCALENDAR
VERSION:2.0
PRODID:-//ChamberMaster//Event Calendar 2.0//EN
METHOD:PUBLISH
X-PUBLISHED-TTL:P3D
REFRESH-INTERVAL:P3D
CALSCALE:GREGORIAN
BEGIN:VEVENT
DTSTART:20220618T190000Z
DTEND:20220618T230000Z
X-MICROSOFT-CDO-ALLDAYEVENT:FALSE
SUMMARY:North Coast Wine & Food Festival
DESCRIPTION:Join us for amazing chefs\, interactive experiences\, music\, and the best wines from our region. 12:00 to 1:00 PM   Exclusive VIP Access 1:00 to 4:00 PM   General Admission This is your opportunity to taste more than 90 exceptional wines from California's premier wine country regions\, as well as dishes from 30 iconic Wine Country chefs\, including Stark Reality Restaurants\, The GrilledCheezGuy\, Wit & Wisdom\, Perch + Plow\, Oliver's Market\, Harvey's Donuts\, and Plaza de Caviar. VIP ticket holders are admitted to the event 1 hour prior to public arrival and have access to the VIP Lounge throughout the event. The event supports Sonoma Family Meal\, a local nonprofit network of chefs\, farmers\, and food producers fighting food insecurity in disasters. Find out more at www.northcoastwineandfood.com
X-ALT-DESC;FMTTYPE=text/html:Join us for amazing chefs\, interactive experiences\, music\, and the best wines from our region. 12:00 to 1:00 PM &ndash\; Exclusive VIP Access 1:00 to 4:00 PM &ndash\; General Admission This is your opportunity to taste more than 90 exceptional wines from California&rsquo\;s premier wine country regions\, as well as dishes from 30 iconic Wine Country chefs\, including Stark Reality Restaurants\, The GrilledCheezGuy\, Wit &amp\; Wisdom\, Perch + Plow\, Oliver&rsquo\;s Market\, Harvey&rsquo\;s Donuts\, and Plaza de Caviar. VIP ticket holders are admitted to the event 1 hour prior to public arrival and have access to the VIP Lounge throughout the event. The event supports Sonoma Family Meal\, a local nonprofit network of chefs\, farmers\, and food producers fighting food insecurity in disasters. Find out more at www.northcoastwineandfood.com
LOCATION:Luther Burbank Center for the Arts
UID:e.3588.417
SEQUENCE:3
DTSTAMP:20260424T034229Z
URL:https://business.windsorchamber.com/events/details/north-coast-wine-food-festival-417
END:VEVENT

END:VCALENDAR
