BEGIN:VCALENDAR
VERSION:2.0
PRODID:-//ChamberMaster//Event Calendar 2.0//EN
METHOD:PUBLISH
X-PUBLISHED-TTL:P3D
REFRESH-INTERVAL:P3D
CALSCALE:GREGORIAN
BEGIN:VEVENT
DTSTART:20220127T000000Z
DTEND:20220127T020000Z
X-MICROSOFT-CDO-ALLDAYEVENT:FALSE
SUMMARY:North Bay Business Journal 2022 Book of Lists Event
DESCRIPTION:Have you been waiting to get your Book Of Lists? Now is your chance at our exclusive Drive-up Event to get your Book of Lists. We will be hosting a drive-up event so you are still able to get your hands on a copy of your book hot off the press- now more than ever\, this information is key to your businesses. Reserve a copy and pick it up via drive through at our Rohnert Park office location or Reserve a copy by mail or delivery
X-ALT-DESC;FMTTYPE=text/html:Have you been waiting to get your Book Of Lists? Now is your chance at our exclusive Drive-up Event to get your Book of Lists. We will be hosting a drive-up event so you are still able to get your hands on a copy of your book hot off the press- now more than ever\, this information is key to your businesses. Reserve a copy and pick it up via drive through at our Rohnert Park office location or Reserve a copy by mail or delivery
LOCATION:Press Democrat 5505 Redwood Drive Rohnert Park\, CA 94928
UID:e.3588.245
SEQUENCE:3
DTSTAMP:20260424T162253Z
URL:https://business.windsorchamber.com/events/details/north-bay-business-journal-2022-book-of-lists-event-245
END:VEVENT

END:VCALENDAR
