BEGIN:VCALENDAR
VERSION:2.0
PRODID:-//ChamberMaster//Event Calendar 2.0//EN
METHOD:PUBLISH
X-PUBLISHED-TTL:P3D
REFRESH-INTERVAL:P3D
CALSCALE:GREGORIAN
BEGIN:VEVENT
DTSTART:20220710T010000Z
DTEND:20220710T050000Z
X-MICROSOFT-CDO-ALLDAYEVENT:FALSE
SUMMARY:Noche de Amor
DESCRIPTION:Join us July 9th for a fundraiser to support Healthcare Foundation Northern Sonoma County. Live music\, wine and latin inspired bites under the stars at Bacchus Landing.
X-ALT-DESC;FMTTYPE=text/html:Join us July 9th for a fundraiser to support Healthcare Foundation Northern Sonoma County. Live music\, wine and latin inspired bites under the stars at Bacchus Landing.
LOCATION:14210 Bacchus Landing Way\, Healdsburg\, CA 95448
UID:e.3588.409
SEQUENCE:3
DTSTAMP:20260423T235740Z
URL:https://business.windsorchamber.com/events/details/noche-de-amor-409
END:VEVENT

END:VCALENDAR
