BEGIN:VCALENDAR
VERSION:2.0
PRODID:-//ChamberMaster//Event Calendar 2.0//EN
METHOD:PUBLISH
X-PUBLISHED-TTL:P3D
REFRESH-INTERVAL:P3D
CALSCALE:GREGORIAN
BEGIN:VEVENT
DTSTART:20220309T160000Z
DTEND:20220309T190000Z
X-MICROSOFT-CDO-ALLDAYEVENT:FALSE
SUMMARY:NBBJ Economic Outlook Summit
DESCRIPTION:The North Bay's original and most comprehensive economic forecast. Partnered with Sonoma State University\, this annual conference will provide the premier economic outlook for the North Bay\, including regional\, statewide and international analysis. Speaker\, Robert Eyler\, Ph.D\, is a professor at Sonoma State University and director of SSU's Center for Regional Economic Analysis. He will deliver his annual North Bay forecast. More speakers to be announced... Continental breakfast included. This is a hybrid event\, we have both in-person and virtual tickets available..
X-ALT-DESC;FMTTYPE=text/html:The North Bay&#39\;s original and most comprehensive economic forecast. Partnered with Sonoma State University\, this annual conference will provide the premier economic outlook for the North Bay\, including regional\, statewide and international analysis. Speaker\, Robert Eyler\, Ph.D\, is a professor at Sonoma State University and director of SSU&#39\;s Center for Regional Economic Analysis. He will deliver his annual North Bay forecast. More speakers to be announced... Continental breakfast included. This is a hybrid event\, we have both in-person and virtual tickets available..
LOCATION:Sonoma state University's Student Center 3rd Floor Ballroom 1801 E. Cotati Ave Rohnert Park\, Ca 94928
UID:e.3588.244
SEQUENCE:3
DTSTAMP:20260424T090346Z
URL:https://business.windsorchamber.com/events/details/nbbj-economic-outlook-summit-244
END:VEVENT

END:VCALENDAR
