BEGIN:VCALENDAR
VERSION:2.0
PRODID:-//ChamberMaster//Event Calendar 2.0//EN
METHOD:PUBLISH
X-PUBLISHED-TTL:P3D
REFRESH-INTERVAL:P3D
CALSCALE:GREGORIAN
BEGIN:VEVENT
DTSTART:20230219T020000Z
DTEND:20230219T060000Z
X-MICROSOFT-CDO-ALLDAYEVENT:FALSE
SUMMARY:Mardi Gras Dance - Windsor Odd Fellows
DESCRIPTION:Windsor Odd Fellows proudly hosts their 3rd Annual Mardi Gras Dance. We took 2 years off for Covid\, just like the rest of the world\, but we are back and ready to have a good time. Laissez les bons temps rouler - let the Good Times Roll!
X-ALT-DESC;FMTTYPE=text/html:Windsor Odd Fellows proudly hosts their 3rd Annual Mardi Gras Dance. We took 2 years off for Covid\, just like the rest of the world\, but we are back and ready to have a good time. Laissez les bons temps rouler - let the Good Times Roll!
LOCATION:Windsor Odd Fellows Hall\, 337 Windsor River Rd\, Windsor (Above Pohley's Market)
UID:e.3588.511
SEQUENCE:3
DTSTAMP:20260422T215255Z
URL:https://business.windsorchamber.com/events/details/mardi-gras-dance-windsor-odd-fellows-511
END:VEVENT

END:VCALENDAR
