BEGIN:VCALENDAR
VERSION:2.0
PRODID:-//ChamberMaster//Event Calendar 2.0//EN
METHOD:PUBLISH
X-PUBLISHED-TTL:P3D
REFRESH-INTERVAL:P3D
CALSCALE:GREGORIAN
BEGIN:VEVENT
DTSTART:20230528T200000Z
DTEND:20230528T230000Z
X-MICROSOFT-CDO-ALLDAYEVENT:FALSE
SUMMARY:Live Music At Geyserville Inn
DESCRIPTION:GEYSERVILLE INN IS EXCITED TO ANNOUNCE ITS FIRST-EVER SUMMER MUSIC SERIES EVERY 4TH SUNDAY OF THE MONTH STARTING MAY 28TH WITH EDDIE AND THE FOG BAND Eddie and the Fog is a locally based band from Sonoma/Marin County. Formed by a few San Francisco firefighters over 12 years ago\, the band has played private parties\, charity events\, pubs\, bike rallies\, and most recently at Bimbo's in San Francisco where we enjoyed a 400 person crowd opening for Wonderbread 5. Currently\, they are an eight piece band with each member having over 40 years plus musical experience.
X-ALT-DESC;FMTTYPE=text/html:GEYSERVILLE INN IS EXCITED TO ANNOUNCE ITS FIRST-EVER SUMMER MUSIC SERIES EVERY 4TH SUNDAY OF THE MONTH STARTING MAY 28TH WITH EDDIE AND THE FOG BAND Eddie and the Fog is a locally based band from Sonoma/Marin County. Formed by a few San Francisco firefighters over 12 years ago\, the band has played private parties\, charity events\, pubs\, bike rallies\, and most recently at Bimbo&rsquo\;s in San Francisco where we enjoyed a 400 person crowd opening for Wonderbread 5. Currently\, they are an eight piece band with each member having over 40 years plus musical experience.
LOCATION:Geyserville Inn 21714 Geyserville Avenue Geyserville\, CA 95441
UID:e.3588.563
SEQUENCE:3
DTSTAMP:20260421T230013Z
URL:https://business.windsorchamber.com/events/details/live-music-at-geyserville-inn-563
END:VEVENT

END:VCALENDAR
