BEGIN:VCALENDAR
VERSION:2.0
PRODID:-//ChamberMaster//Event Calendar 2.0//EN
METHOD:PUBLISH
X-PUBLISHED-TTL:P3D
REFRESH-INTERVAL:P3D
CALSCALE:GREGORIAN
BEGIN:VEVENT
DTSTART:20220618T190000Z
DTEND:20220619T000000Z
X-MICROSOFT-CDO-ALLDAYEVENT:FALSE
SUMMARY:International Lions Day on the Town Green
DESCRIPTION:A day of celebration on the Town Green. Free concert and dance performances. Free Vision screenings. Food\, beer and wine\, crafts\, antique and art booths. Games for all ages. Admission is free.
X-ALT-DESC;FMTTYPE=text/html:A day of celebration on the Town Green. Free concert and dance performances. Free Vision screenings. Food\, beer and wine\, crafts\, antique and art booths. Games for all ages. Admission is free.
LOCATION:Windsor Town Green
UID:e.3588.424
SEQUENCE:3
DTSTAMP:20260424T035032Z
URL:https://business.windsorchamber.com/events/details/international-lions-day-on-the-town-green-424
END:VEVENT

END:VCALENDAR
