BEGIN:VCALENDAR
VERSION:2.0
PRODID:-//ChamberMaster//Event Calendar 2.0//EN
METHOD:PUBLISH
X-PUBLISHED-TTL:P3D
REFRESH-INTERVAL:P3D
CALSCALE:GREGORIAN
BEGIN:VEVENT
DTSTART:20220601T000000Z
DTEND:20220601T020000Z
X-MICROSOFT-CDO-ALLDAYEVENT:FALSE
SUMMARY:Get Connected After Hours May 2022 at Bellacana
DESCRIPTION:New as Get Connected After Hours returns\, we are requesting registration for the FREE event.\n\n\n\nBellacana Vineyards will be hosting the May event. We will be at their tasting lounge located on the Windsor Town Green where they will be pouring their wine. Come out to relax and enjoy yourself as you connect with other members.\n\n\n\nBring a door prize to promote your business as part of the Business Card Raffle. Please feel free to bring a guest.\n\n\n\nAt Bellacana they strive to bring out the best from what the fruit and vineyard give off. They try to pick at the optimum ripeness\, to show the best of what the grape has to offer. It's a delicate balance to pick at the proper time. Stop by their Tasting Lounge located on Windsor Town Green to taste and purchase their different varietals. They are open Thursday-Saturday from 12pm to 6pm\, and 12pm to 4pm on Sunday.\n\n\n\nbellacanavineyard.com/\n\nLeanna@bellacanavineyards.com\n\n707-522-4241
X-ALT-DESC;FMTTYPE=text/html:<p><span style="background:white\;"><span style="color:red\;"><span style="font-family:arial\,sans-serif\;"><span style="font-size:15.0pt\;">New as Get Connected After Hours returns\, we are requesting registration for the FREE event.</span></span></span></span><br style="box-sizing:border-box\;font-variant-ligatures:normal\;font-variant-caps:normal\;orphans:2\;text-align:start\;widows:2\;-webkit-text-stroke-width:0px\;text-decoration-thickness:initial\;text-decoration-style:initial\;word-spacing:0px\;" />\n<br style="box-sizing:border-box\;font-variant-ligatures:normal\;font-variant-caps:normal\;orphans:2\;text-align:start\;widows:2\;-webkit-text-stroke-width:0px\;text-decoration-thickness:initial\;text-decoration-style:initial\;word-spacing:0px\;" />\n<span style="font-size:16px\;"><span style="font-family:arial\;"><span style="background:white\;"><span style="box-sizing:border-box\;"><span style="box-sizing:border-box\;font-variant-ligatures:normal\;font-variant-caps:normal\;orphans:2\;text-align:start\;widows:2\;-webkit-text-stroke-width:0px\;text-decoration-thickness:initial\;text-decoration-style:initial\;word-spacing:0px\;"><span style="box-sizing:border-box\;"><span style="box-sizing:border-box\;"><span style="box-sizing:border-box\;font-variant-ligatures:normal\;font-variant-caps:normal\;orphans:2\;text-align:start\;widows:2\;-webkit-text-stroke-width:0px\;text-decoration-thickness:initial\;text-decoration-style:initial\;float:none\;word-spacing:0px\;">Bellacana Vineyards will be hosting the May event. We will be at their tasting lounge located on the Windsor Town Green where they will be pouring their wine. Come out to relax and enjoy yourself as you connect with other members.</span></span></span></span></span></span><br />\n<br />\n<span style="background:white\;">Bring a door prize to promote your business as part of the Business Card Raffle.&nbsp\;</span><span style="background:white\;"><span style="box-sizing:border-box\;"><span style="box-sizing:border-box\;"><span style="box-sizing:border-box\;">Please feel free to bring a guest.</span></span></span></span></span></span><br />\n<br />\n<span style="font-size:16px\;"><span style="font-family:arial\;"><span style="background:white\;">At Bellacana they strive to bring out the best from what the fruit and vineyard give off. They try to pick at the optimum ripeness\, to show the best of what the grape has to offer. It&rsquo\;s a delicate balance to pick at the proper time. Stop by their Tasting Lounge located on Windsor Town Green to taste and purchase their different varietals. They are </span>open Thursday-Saturday from 12pm to 6pm\, and 12pm to 4pm on Sunday.</span></span><br />\n<br />\n<a href="https://bellacanavineyard.com/" style="color: rgb(7\, 130\, 193)\; font-family: sans-serif\, Arial\, Verdana\, &quot\;Trebuchet MS&quot\;\; font-size: 13px\; background-color: rgb(255\, 255\, 255)\;"><span style="color: rgb(51\, 51\, 51)\; font-family: arial\; font-size: 16px\;">bellacanavineyard.com/</span></a><br style="color: rgb(51\, 51\, 51)\; font-family: arial\; font-size: 16px\; background-color: rgb(255\, 255\, 255)\;" />\n<span style="color: rgb(51\, 51\, 51)\; font-family: arial\; font-size: 16px\; background-color: rgb(255\, 255\, 255)\;">Leanna@bellacanavineyards.com</span><br style="color: rgb(51\, 51\, 51)\; font-family: sans-serif\, Arial\, Verdana\, &quot\;Trebuchet MS&quot\;\; font-size: 13px\; background-color: rgb(255\, 255\, 255)\;" />\n<span style="color: rgb(51\, 51\, 51)\; background-color: rgb(255\, 255\, 255)\; font-family: arial\; font-size: 16px\;">707-522-4241</span></p>\n
LOCATION:Bellacana Tasting Lounge 9071 Windsor Rd\, Windsor
UID:e.3588.398
SEQUENCE:3
DTSTAMP:20260424T062607Z
URL:https://business.windsorchamber.com/events/details/get-connected-after-hours-may-2022-at-bellacana-398
END:VEVENT

END:VCALENDAR
