BEGIN:VCALENDAR
VERSION:2.0
PRODID:-//ChamberMaster//Event Calendar 2.0//EN
METHOD:PUBLISH
X-PUBLISHED-TTL:P3D
REFRESH-INTERVAL:P3D
CALSCALE:GREGORIAN
BEGIN:VEVENT
DTSTART:20220831T000000Z
DTEND:20220831T020000Z
X-MICROSOFT-CDO-ALLDAYEVENT:FALSE
SUMMARY:Get Connected After Hours at WCC August 2022
DESCRIPTION:There will be delicious bites from around the world\, beverages\, wine\, and a few door prizes in addition to fellowship and networking. Our hosting business is Jeannine Pendleton of Amazing Adventures Travel Design\, and we will be showing off our Visitors Center and Conference Room facility.
X-ALT-DESC;FMTTYPE=text/html:<p style="margin:0in"><span style="font-size:12.0pt\;font-family:&quot\;Arial&quot\;\,sans-serif">There will be delicious bites from around the world\, beverages\, wine\, and a few door prizes in addition to fellowship and networking. Our hosting business is Jeannine Pendleton of Amazing Adventures Travel Design\, and we will be showing off our Visitors Center and Conference Room facility.<o:p></o:p></span></p>\n
LOCATION:Windsor Chamber of Commerce 9001 Windsor Road\, Windsor
UID:e.3588.416
SEQUENCE:3
DTSTAMP:20260423T204608Z
URL:https://business.windsorchamber.com/events/details/get-connected-after-hours-at-wcc-august-2022-416
END:VEVENT

END:VCALENDAR
