BEGIN:VCALENDAR
VERSION:2.0
PRODID:-//ChamberMaster//Event Calendar 2.0//EN
METHOD:PUBLISH
X-PUBLISHED-TTL:P3D
REFRESH-INTERVAL:P3D
CALSCALE:GREGORIAN
BEGIN:VEVENT
DTSTART:20230205T000000Z
DTEND:20230205T050000Z
X-MICROSOFT-CDO-ALLDAYEVENT:FALSE
SUMMARY:Game Night - Windsor Odd Fellows
DESCRIPTION:Windsor Odd Fellows is hosting the space for the community to come play games. Come get out of the cold and the rain and have some fun! We have a pool table\, corn hole\, a really challenging puzzle\, lots of board games. This is a BYOB event. Please bring your own beverages\, ice chest ifs fine\, and food/snacks. Food to share is great.
X-ALT-DESC;FMTTYPE=text/html:Windsor Odd Fellows is hosting the space for the community to come play games. Come get out of the cold and the rain and have some fun! We have a pool table\, corn hole\, a really challenging puzzle\, lots of board games. This is a BYOB event. Please bring your own beverages\, ice chest ifs fine\, and food/snacks. Food to share is great.
LOCATION:337 Windsor River Rd\, Windsor\, CA
UID:e.3588.510
SEQUENCE:3
DTSTAMP:20260422T215608Z
URL:https://business.windsorchamber.com/events/details/game-night-windsor-odd-fellows-510
END:VEVENT

END:VCALENDAR
