BEGIN:VCALENDAR
VERSION:2.0
PRODID:-//ChamberMaster//Event Calendar 2.0//EN
METHOD:PUBLISH
X-PUBLISHED-TTL:P3D
REFRESH-INTERVAL:P3D
CALSCALE:GREGORIAN
BEGIN:VEVENT
DTSTART:20220119T020000Z
DTEND:20220119T030000Z
X-MICROSOFT-CDO-ALLDAYEVENT:FALSE
SUMMARY:Earthquake Preparedness and Response – a Free Online Presentation
DESCRIPTION:Are you ready if an earthquake hits? Join Windsor COPE to learn about Earthquake 101 (why earthquakes occur and how they shape our planet)\, how to prepare for an earthquake\, and what to do during and after an earthquake. Register in advance at https://bit.ly/2WBeVHV to learn how to prepare your family and home. The speaker will be Diana Borges\, Windsor COPE's Community Leader and Registered Geologist. There will be an open discussion after the presentation. Everyone is invited to attend. Windsor COPE (Citizens Organized to Prepare for Emergencies) is a collaborative effort between the Town of Windsor\, Sonoma County Fire District\, and Windsor Police. More information about Windsor COPE is at https://www.townofwindsor.com/1293/COPE-of-Windsor. Email questions to COPE@townofwindsor.com.
X-ALT-DESC;FMTTYPE=text/html:Are you ready if an earthquake hits? Join Windsor COPE to learn about Earthquake 101 (why earthquakes occur and how they shape our planet)\, how to prepare for an earthquake\, and what to do during and after an earthquake. Register in advance at https://bit.ly/2WBeVHV to learn how to prepare your family and home. The speaker will be Diana Borges\, Windsor COPE&rsquo\;s Community Leader and Registered Geologist. There will be an open discussion after the presentation. Everyone is invited to attend. Windsor COPE (Citizens Organized to Prepare for Emergencies) is a collaborative effort between the Town of Windsor\, Sonoma County Fire District\, and Windsor Police. More information about Windsor COPE is at https://www.townofwindsor.com/1293/COPE-of-Windsor. Email questions to COPE@townofwindsor.com.
LOCATION:Online via Zoom
UID:e.3588.239
SEQUENCE:3
DTSTAMP:20260424T145709Z
URL:https://business.windsorchamber.com/events/details/earthquake-preparedness-and-response-a-free-online-presentation-239
END:VEVENT

END:VCALENDAR
