BEGIN:VCALENDAR
VERSION:2.0
PRODID:-//ChamberMaster//Event Calendar 2.0//EN
METHOD:PUBLISH
X-PUBLISHED-TTL:P3D
REFRESH-INTERVAL:P3D
CALSCALE:GREGORIAN
BEGIN:VEVENT
DTSTART:20231017T183000Z
DTEND:20231017T200000Z
X-MICROSOFT-CDO-ALLDAYEVENT:FALSE
SUMMARY:Chamber Luncheon October 2023
DESCRIPTION:"In Conversation With" Ally Berk & Lluvia Gomez\n\nof Legal Aid of Sonoma County's free legal services for small businesses\n\n\n\nModerated by: Trisha Grambow- Studio You\n\nOur Member of the Month is Groome Transportation\, formally known as Sonoma County Airport Express- Offering the same great service with a fresh new look\, Sonoma County Airport Express is now Groome Transportation. Customers can expect the same safe\, convenient and reliable service to and from San Francisco\, Oakland\, and Sonoma County Airports.  More importantly\, our dedicated employees have not changed\, many with over 30 years experience in safety and quality customer service.
X-ALT-DESC;FMTTYPE=text/html:<strong><span style="background:white\;"><span style="color:#555555\;"><span style="font-family:calibri\,sans-serif\;"><span style="font-size:16.0pt\;">&quot\;In Conversation With&quot\; Ally Berk &amp\; Lluvia Gomez</span></span></span></span></strong><br />\n<strong style="font-variant-ligatures:normal\;font-variant-caps:normal\;orphans:2\;text-align:start\;widows:2\;-webkit-text-stroke-width:0px\;text-decoration-thickness:initial\;text-decoration-style:initial\;word-spacing:0px\;"><span style="background:white\;"><span style="color:#555555\;"><span style="font-family:calibri\,sans-serif\;"><span style="font-size:16.0pt\;">of Legal Aid of Sonoma County&#39\;s free&nbsp\;legal services for small businesses</span></span></span></span></strong><br />\n<br />\nModerated by: Trisha Grambow- Studio You<br />\n<span style="background:white\;"><span style="color:#222222\;"><span style="font-size:14.0pt\;">Our Member of the Month is Groome Transportation\, formally known as Sonoma County Airport Express-&nbsp\;</span></span></span><span style="color: rgb(99\, 99\, 99)\; font-family: -apple-system\, BlinkMacSystemFont\, &quot\;Segoe UI&quot\;\, Roboto\, Oxygen-Sans\, Ubuntu\, Cantarell\, &quot\;Helvetica Neue&quot\;\, sans-serif\; font-size: 15px\; background-color: rgb(255\, 255\, 255)\;">Offering the same great service with a fresh new look\, Sonoma County Airport Express is now Groome Transportation. Customers can expect the same safe\, convenient and reliable service to and from San Francisco\, Oakland\, and Sonoma County Airports.&nbsp\; More importantly\, our dedicated employees have not changed\, many with over 30 years experience in safety and quality customer service.</span>
LOCATION:Mary's Pizza Shack 9010 Brooks Rd. Windsor\, CA 95492 In the Lakewood Shopping Center
UID:e.3588.630
SEQUENCE:3
DTSTAMP:20260421T034006Z
URL:https://business.windsorchamber.com/events/details/chamber-luncheon-october-2023-630
END:VEVENT

END:VCALENDAR
