BEGIN:VCALENDAR
VERSION:2.0
PRODID:-//ChamberMaster//Event Calendar 2.0//EN
METHOD:PUBLISH
X-PUBLISHED-TTL:P3D
REFRESH-INTERVAL:P3D
CALSCALE:GREGORIAN
BEGIN:VEVENT
DTSTART:20230718T183000Z
DTEND:20230718T200000Z
X-MICROSOFT-CDO-ALLDAYEVENT:FALSE
SUMMARY:Chamber Luncheon Keiser Park Picnic July 2023
DESCRIPTION:"In Conversation With" Charisse Arnold of SRJC Public Safety Training Center\n\nModerated by Jen Stark of Wildfire Services Group\n\n \nWe are going to have a Barbeque Picnic at Keiser Park! Come out and enjoy hot dogs provided by the Windsor Lions Club\, as well as sides donated by Chamber businesses. Moxie's yogurt truck will be on site serving two flavors of their delicious frozen yogurt and a few toppings.\n\n\n\nJoin us in welcoming Charisse Arnold of the Santa Rosa Junior College Public Safety Training Center. She will introduce the SRJC's footprint in Windsor at the Public Safety Training Center and all of the wonderful public safely programs and classes they have to offer. Moderator Jen Stark of Wildfire Services Group will lead the discussion.\n\n \n\nFeel free to bring a side or dessert to share.\n\n\n\n\nOur Member of the Month is Les Schwab.\n\n\n\nBio: Charisse Arnold is the Associate Dean/Director of the In-Service & Corrections Academy Programs at the Public Safety Training Center in Windsor.  She has worked for the Santa Rosa Junior College Public Safety Training Center for almost 15 years coordinating and putting on 100's of law enforcement and in-service classes to our local LE community and greater California.  Prior to that she worked for the Sonoma County Sheriff's Office for over 8 years\, starting as a student intern and working her way to the Department Training Manger.  Combining her love of public safety\, training\, education & academia\, and civic engagement\, SRJC is Charisse's home for all of these reasons and more!
X-ALT-DESC;FMTTYPE=text/html:<strong style="color: rgb(51\, 51\, 51)\; font-family: sans-serif\, Arial\, Verdana\, &quot\;Trebuchet MS&quot\;\; font-size: 13px\;"><span style="background: white\;"><span style="color: rgb(85\, 85\, 85)\;"><span style="font-family: calibri\, sans-serif\;"><span style="font-size: 16pt\;">&quot\;In Conversation With&quot\; Charisse Arnold of SRJC Public Safety Training Center<br />\nModerated by Jen Stark of Wildfire Services Group</span></span></span></span></strong><br style="color: rgb(51\, 51\, 51)\; font-family: sans-serif\, Arial\, Verdana\, &quot\;Trebuchet MS&quot\;\; font-size: 13px\;" />\n&nbsp\;\n<div><span style="background: white\;"><span style="box-sizing: border-box\;"><span style="box-sizing: border-box\;"><span style="box-sizing: border-box\;"><font color="#222222" face="sans-serif\, Arial\, Verdana\, Trebuchet MS"><span style="font-size: 20px\;">We are going to have a Barbeque Picnic at Keiser Park! Come out and enjoy hot dogs provided by the Windsor&nbsp\;Lions Club\, as well as sides donated by Chamber businesses. Moxie&#39\;s yogurt truck will be on site&nbsp\;serving two flavors of their delicious frozen yogurt and a few toppings.</span></font></span></span></span></span><br />\n<br />\n<span style="color: rgb(51\, 51\, 51)\; font-family: sans-serif\, Arial\, Verdana\, &quot\;Trebuchet MS&quot\;\; font-size: 20px\;"><span style="background: white\;"><span style="color: rgb(34\, 34\, 34)\;"><span style="box-sizing: border-box\;">Join us in welcoming Charisse Arnold of the Santa Rosa Junior College Public Safety Training Center. She will introduce the SRJC&#39\;s footprint in Windsor at the Public Safety Training Center and all of the wonderful public safely programs and classes they have to offer.&nbsp\;Moderator Jen Stark&nbsp\;of Wildfire Services Group&nbsp\;will lead the discussion.</span></span></span></span></div>\n\n<div>&nbsp\;</div>\n\n<div><span style="background: white\;"><span style="box-sizing: border-box\;"><span style="box-sizing: border-box\;"><span style="box-sizing: border-box\;"><font color="#222222" face="sans-serif\, Arial\, Verdana\, Trebuchet MS"><span style="font-size: 20px\;">Feel free to bring a side or dessert to share.</span></font></span></span></span></span></div>\n\n<div>\n<div><br style="color: rgb(51\, 51\, 51)\; font-family: sans-serif\, Arial\, Verdana\, &quot\;Trebuchet MS&quot\;\; font-size: 13px\;" />\n<span style="color: rgb(51\, 51\, 51)\; font-family: sans-serif\, Arial\, Verdana\, &quot\;Trebuchet MS&quot\;\; font-size: 13px\; background: white\;"><span style="color: rgb(34\, 34\, 34)\;"><span style="font-size: 14pt\;">Our Member of the Month is Les Schwab.</span></span></span><br />\n<br />\n<span style="font-family:book antiqua\,serif\;"><span style="font-size:12.0pt\;">Bio: Charisse Arnold is the Associate Dean/Director of the In-Service &amp\; Corrections Academy Programs at the Public Safety Training Center in Windsor.&nbsp\; She has worked for the Santa Rosa Junior College Public Safety Training Center for almost 15 years coordinating and putting on 100&rsquo\;s of law enforcement and in-service classes to our local LE community and greater California.&nbsp\; Prior to that she worked for the Sonoma County Sheriff&rsquo\;s Office for over 8 years\, starting as a student intern and working her way to the Department Training Manger.&nbsp\; Combining her love of public safety\, training\, education &amp\; academia\, and civic engagement\, SRJC is Charisse&rsquo\;s home for all of these reasons and more!&nbsp\;</span></span></div>\n</div>\n
LOCATION:Keiser Park\, Large picnic area 700 Windsor River Rd\, Windsor
UID:e.3588.580
SEQUENCE:3
DTSTAMP:20260421T110836Z
URL:https://business.windsorchamber.com/events/details/chamber-luncheon-keiser-park-picnic-july-2023-580
END:VEVENT

END:VCALENDAR
