BEGIN:VCALENDAR
VERSION:2.0
PRODID:-//ChamberMaster//Event Calendar 2.0//EN
METHOD:PUBLISH
X-PUBLISHED-TTL:P3D
REFRESH-INTERVAL:P3D
CALSCALE:GREGORIAN
BEGIN:VEVENT
DTSTART:20240116T193000Z
DTEND:20240116T210000Z
X-MICROSOFT-CDO-ALLDAYEVENT:FALSE
SUMMARY:Chamber Luncheon at KC's January 2024
DESCRIPTION:How to Take Advantage of Your Membership:\n\nGetting the Most from Your Chamber Benefits\n\nModerated by Joey Riggins\n\n\n\n\n\nGet to know your Chamber staff and how to leverage your benefits!\n\n\n\nAlso at this luncheon\, we will be presenting a check to Windsor Presbyterian Church Food Pantry and Clothing Closet from the proceeds of the 2023 Winter Wine Walk.\n\n\n\nLunch will be served on the patio of KC's American Kitchen.\n\n\n\nOur Member of the Month is Republic Services- Petaluma\n\n\n\nPlease note any special dietary needs in your registration and we will do our best to accommodate.\n\n\n\nRegister by Friday\, January 12\, 2023
X-ALT-DESC;FMTTYPE=text/html:<font face="arial\, sans-serif"><span style="font-size: 24px\;"><b>How to Take Advantage of Your Membership:<br />\nGetting the Most from Your Chamber Benefits</b></span></font><br />\n<strong><span style="background:white\;"><span style="color:#333333\;"><span style="font-family:arial\,sans-serif\;"><span style="font-size:15.0pt\;">Moderated by Joey Riggins</span></span></span></span></strong><br />\n<br />\n<br />\n<font face="arial\, sans-serif"><span style="font-size: 20px\;">Get to know your Chamber staff and how to leverage your benefits!</span></font><br />\n<br />\n<span style="color:#333333\;"><span style="font-family:arial\,sans-serif\;"><span style="font-size:15.0pt\;">Also at this luncheon\, we will be presenting a check to&nbsp\;</span></span></span><span style="font-family: arial\, sans-serif\; font-size: 20px\;">Windsor Presbyterian Church Food Pantry and Clothing Closet from</span><span style="color:#333333\;"><span style="font-family:arial\,sans-serif\;"><span style="font-size:15.0pt\;">&nbsp\;the proceeds of the 2023 Winter Wine Walk.</span></span></span><br />\n<br />\n<span style="color:#333333\;"><span style="font-family:arial\,sans-serif\;"><span style="font-size:15.0pt\;">Lunch will be served on the patio of KC&#39\;s American Kitchen.<br />\n<br />\nOur Member of the Month is Republic Services- Petaluma</span></span></span><br />\n<br />\n<span style="background:white\;"><span style="color:#333333\;"><span style="font-family:arial\,sans-serif\;"><span style="font-size:15.0pt\;">Please note any special dietary needs in your registration and we will do our best to accommodate.</span></span></span></span><br />\n<br />\n<span style="background:white\;"><span style="color:#333333\;"><span style="font-family:arial\,sans-serif\;"><span style="font-size:15.0pt\;">Register by Friday\, January 12\, 2023</span></span></span></span>
LOCATION:KC's American Kitchen 9501 Duvander Ln\, Windsor
UID:e.3588.1269
SEQUENCE:3
DTSTAMP:20260420T215120Z
URL:https://business.windsorchamber.com/events/details/chamber-luncheon-at-kc-s-january-2024-1269
END:VEVENT

END:VCALENDAR
