BEGIN:VCALENDAR
VERSION:2.0
PRODID:-//ChamberMaster//Event Calendar 2.0//EN
METHOD:PUBLISH
X-PUBLISHED-TTL:P3D
REFRESH-INTERVAL:P3D
CALSCALE:GREGORIAN
BEGIN:VEVENT
DTSTART:20230120T033000Z
DTEND:20230122T220000Z
X-MICROSOFT-CDO-ALLDAYEVENT:FALSE
SUMMARY:Cesar Died Today
DESCRIPTION:Written by: Gabriel Fraire and John Fraire?Directed by: Oz Montelongo Medina An original play by brothers John and Gabriel Fraire\, the story revolves around a Mexican-American family hiding secrets from each other. At heart\, this is a play about family and the contradictory emotions that bind us together by blood. When the patriarch of a Latino family dies on the same day beloved activist Cesar Chavez passed away\, the intertwined layers of secrets\, dreams\, resentments\, and hopes bubble to the surface for each member of the remaining family   the wife\, two sons\, and daughter. While the children squabble and vent\, the mother seeks solace and guidance from a mysterious spirit (seen only by her) that provides a uniquely down-to-earth approach to their situation and their challenges. A co-production with Cloverdale Performing Arts Center. This production was part of the Raven Players' ScripTease new works series in 2021.
X-ALT-DESC;FMTTYPE=text/html:Written by: Gabriel Fraire and John Fraire?Directed by: Oz Montelongo Medina An original play by brothers John and Gabriel Fraire\, the story revolves around a Mexican-American family hiding secrets from each other. At heart\, this is a play about family and the contradictory emotions that bind us together by blood. When the patriarch of a Latino family dies on the same day beloved activist Cesar Chavez passed away\, the intertwined layers of secrets\, dreams\, resentments\, and hopes bubble to the surface for each member of the remaining family &ndash\; the wife\, two sons\, and daughter. While the children squabble and vent\, the mother seeks solace and guidance from a mysterious spirit (seen only by her) that provides a uniquely down-to-earth approach to their situation and their challenges. A co-production with Cloverdale Performing Arts Center. This production was part of the Raven Players&#39\; ScripTease new works series in 2021.
LOCATION:The Raven Performing Arts Theater 115 North Street Healdsburg\, CA 95448
UID:e.3588.505
SEQUENCE:3
DTSTAMP:20260422T225900Z
URL:https://business.windsorchamber.com/events/details/cesar-died-today-505
END:VEVENT

END:VCALENDAR
